BEGIN:VCALENDAR
VERSION:2.0
PRODID:-//plan-blatt - ECPv5.14.2.1//NONSGML v1.0//EN
CALSCALE:GREGORIAN
METHOD:PUBLISH
X-WR-CALNAME:plan-blatt
X-ORIGINAL-URL:https://plan-blatt.de
X-WR-CALDESC:Veranstaltungen für plan-blatt
BEGIN:VTIMEZONE
TZID:UTC
BEGIN:STANDARD
TZOFFSETFROM:+0000
TZOFFSETTO:+0000
TZNAME:UTC
DTSTART:20260101T000000
END:STANDARD
END:VTIMEZONE
BEGIN:VEVENT
DTSTART;TZID=UTC:20260628T110000
DTEND;TZID=UTC:20260628T130000
DTSTAMP:20260420T113123
CREATED:20260216T145200Z
LAST-MODIFIED:20260216T145200Z
UID:631-1782644400-1782651600@plan-blatt.de
SUMMARY:Tag der Architektur
DESCRIPTION:Die Terrassenfläche auf der Tiefgaragendecke war nicht optimal nutzbar. Zum Garten führte eine ‚Klettertour‘ über einen Lichtschacht. Die Gartenfläche war in die Jahre gekommen. Ca. 15 m2 der Terrasse sind mit Pflanzbeeten ausgestattet worden. Sichtschutz zum Nachbarhaus wurde durch Gartenschrank und Baum erreicht. Im Garten haben Säulenobstbäume\, Kleingehölze\, Stauden und Gräser Platz gefunden. Eine kleine Trockenmauer dient als Sitz mit Blick Richtung Terrasse und Haus.
URL:https://plan-blatt.de/event/tag-der-architektur/
LOCATION:Hausgarten Zimmermann-Marx\, Volkhovener Weg 219\, Köln\, NRW\, 50765\, Germany
END:VEVENT
END:VCALENDAR